BEGIN:VCALENDAR
VERSION:2.0
PRODID:-//urwahl3000//gruene-haar.de//DE
CALSCALE:GREGORIAN
BEGIN:VEVENT
DTSTART:20210819T193000
DTEND:20210819T193000
LOCATION:Kleiner Bürgersaal Haar
DTSTAMP:20210819T193000
SUMMARY:Mitten im Grünen
URL;VALUE=URI:https://gruene-haar.de/termin/mitten-im-gruenen-2/
DESCRIPTION:Offenes Treffen der Haarer Grünen - alle Interessierten sind willkommen!

Wer online teilnehmen will, meldet sich vorab bitte per Mail an info@gruene-haar.de.
UID:20210819T193000-20210819T193000-20210819T193000
END:VEVENT
END:VCALENDAR