BEGIN:VCALENDAR
VERSION:2.0
PRODID:-//urwahl3000//gruene-haar.de//DE
CALSCALE:GREGORIAN
BEGIN:VEVENT
DTSTART:20220317T193000
DTEND:20220317T193000
LOCATION:Online-Veranstaltung Haar
DTSTAMP:20220317T193000
SUMMARY:Wie wollen wir in Zukunft pflegen?
URL;VALUE=URI:https://gruene-haar.de/termin/wie-wollen-wir-in-zukunft-pflegen/
DESCRIPTION:Infoabend zur Entwicklung des Pflegefachkräftemangels in unserer Region.
Präsentation des Monitorings der Vereinigung der Pflegenden in Bayern (VdPB) und Diskussion
Mit dabei:
<ul>
 	<li>Stefanie Schlieben (Vorsitzende VdPB)</li>
 	<li>Michael Wittmann (Geschäftsführer VdPB)</li>
 	<li>Gudrun Hackl-Stoll (Kreisrätin)</li>
 	<li>Frauke Schwaiblmair  (Bezirksrätin)</li>
 	<li>Martin Wagner (Bezirksrat)</li>
 	<li>Ben Pulz (ver.di)</li>
 	<li>Dr. Ulrich Leiner (2. Bürgermeister)</li>
</ul>
Moderation: Uwe Manns (Gemeinderat)

<b>Nimm am Meeting per Computer, Tablet oder Smartphone teil.
<a href="https://meet.goto.com/134745509" target="_blank" rel="noopener" data-saferedirecturl="https://www.google.com/url?q=https://meet.goto.com/134745509&source=gmail&ust=1644835779253000&usg=AOvVaw1NnRUSm2S0ONMXfbXL0yJo">https://meet.goto.com/134745509</a></b>

(<strong>Achtung:</strong> Als Browser sollte Microsoft Edge oder Google Chrome verwendet werden - der Firefox wird nicht unterstützt!
Wer mit Tablet oder Smartphone teilnimmt, benötigt die App "GoToMeeting")

Du kannst Dich auch über ein Telefon einwählen:
DE: +49 721 9881 4161 Access Code: 134-745-509

 
UID:20220317T193000-20220317T193000-20220317T193000
END:VEVENT
END:VCALENDAR